BEGIN:VCALENDAR
VERSION:2.0
PRODID:-//Urban Sketchers Switzerland - ECPv6.15.13//NONSGML v1.0//EN
CALSCALE:GREGORIAN
METHOD:PUBLISH
X-WR-CALNAME:Urban Sketchers Switzerland
X-ORIGINAL-URL:https://dev.usk-switzerland.ch
X-WR-CALDESC:Events for Urban Sketchers Switzerland
REFRESH-INTERVAL;VALUE=DURATION:PT1H
X-Robots-Tag:noindex
X-PUBLISHED-TTL:PT1H
BEGIN:VTIMEZONE
TZID:Europe/Zurich
BEGIN:DAYLIGHT
TZOFFSETFROM:+0100
TZOFFSETTO:+0200
TZNAME:CEST
DTSTART:20250330T010000
END:DAYLIGHT
BEGIN:STANDARD
TZOFFSETFROM:+0200
TZOFFSETTO:+0100
TZNAME:CET
DTSTART:20251026T010000
END:STANDARD
BEGIN:DAYLIGHT
TZOFFSETFROM:+0100
TZOFFSETTO:+0200
TZNAME:CEST
DTSTART:20260329T010000
END:DAYLIGHT
BEGIN:STANDARD
TZOFFSETFROM:+0200
TZOFFSETTO:+0100
TZNAME:CET
DTSTART:20261025T010000
END:STANDARD
BEGIN:DAYLIGHT
TZOFFSETFROM:+0100
TZOFFSETTO:+0200
TZNAME:CEST
DTSTART:20270328T010000
END:DAYLIGHT
BEGIN:STANDARD
TZOFFSETFROM:+0200
TZOFFSETTO:+0100
TZNAME:CET
DTSTART:20271031T010000
END:STANDARD
END:VTIMEZONE
BEGIN:VEVENT
DTSTART;TZID=Europe/Zurich:20260110T000000
DTEND;TZID=Europe/Zurich:20260110T000000
DTSTAMP:20260420T194531
CREATED:20251230T190833Z
LAST-MODIFIED:20251230T191058Z
UID:7834-1768003200-1768003200@dev.usk-switzerland.ch
SUMMARY:Saturday\, 10 January 2026: Advance notice of Sketchcrawl Basel at the Basel Ballet's training and rehearsal
DESCRIPTION:In the new year\, we will meet for the first time on Saturday\, 10 January to sketch. \nWe will be guests at Ballet Basel\, watching training (in the late morning) and rehearsals (over lunchtime) for a new production that will premiere on 5 February. This performance by two up-and-coming choreographers is called ‘New Works.’ Here is the link to information from Theater Basel: https://www.theater-basel.ch/de/newworkshakobyanjung \nMore detailed information will follow as soon as possible.
URL:https://dev.usk-switzerland.ch/en/event/saturday-10-january-2026-advance-notice-of-sketchcrawl-basel-at-the-basel-ballets-training-and-rehearsal/
CATEGORIES:USkS Basel
END:VEVENT
END:VCALENDAR