BEGIN:VCALENDAR
VERSION:2.0
PRODID:-//Urban Sketchers Switzerland - ECPv6.15.13//NONSGML v1.0//EN
CALSCALE:GREGORIAN
METHOD:PUBLISH
X-ORIGINAL-URL:https://dev.usk-switzerland.ch
X-WR-CALDESC:Veranstaltungen im Urban Sketchers Switzerland
REFRESH-INTERVAL;VALUE=DURATION:PT1H
X-Robots-Tag:noindex
X-PUBLISHED-TTL:PT1H
BEGIN:VTIMEZONE
TZID:Europe/Zurich
BEGIN:DAYLIGHT
TZOFFSETFROM:+0100
TZOFFSETTO:+0200
TZNAME:CEST
DTSTART:20240331T010000
END:DAYLIGHT
BEGIN:STANDARD
TZOFFSETFROM:+0200
TZOFFSETTO:+0100
TZNAME:CET
DTSTART:20241027T010000
END:STANDARD
BEGIN:DAYLIGHT
TZOFFSETFROM:+0100
TZOFFSETTO:+0200
TZNAME:CEST
DTSTART:20250330T010000
END:DAYLIGHT
BEGIN:STANDARD
TZOFFSETFROM:+0200
TZOFFSETTO:+0100
TZNAME:CET
DTSTART:20251026T010000
END:STANDARD
BEGIN:DAYLIGHT
TZOFFSETFROM:+0100
TZOFFSETTO:+0200
TZNAME:CEST
DTSTART:20260329T010000
END:DAYLIGHT
BEGIN:STANDARD
TZOFFSETFROM:+0200
TZOFFSETTO:+0100
TZNAME:CET
DTSTART:20261025T010000
END:STANDARD
BEGIN:DAYLIGHT
TZOFFSETFROM:+0100
TZOFFSETTO:+0200
TZNAME:CEST
DTSTART:20270328T010000
END:DAYLIGHT
BEGIN:STANDARD
TZOFFSETFROM:+0200
TZOFFSETTO:+0100
TZNAME:CET
DTSTART:20271031T010000
END:STANDARD
END:VTIMEZONE
BEGIN:VEVENT
DTSTART;TZID=Europe/Zurich:20260418T133000
DTEND;TZID=Europe/Zurich:20260418T160000
DTSTAMP:20260420T080838
CREATED:20260417T141417Z
LAST-MODIFIED:20260417T141603Z
UID:7943-1776519000-1776528000@dev.usk-switzerland.ch
SUMMARY:Sketchcrawl in der Altstadt von Lenzburg
DESCRIPTION:Samstag\, 18. April  2026\, 13.30-16 Uhr\, Treffpunkt –  Metzgplatz beim Chlausbrunnen\n\n\n\n📍 Sketchcrawl in der Altstadt von Lenzburg. Wir treffendes am 18. April\, um 13.30 am Metzgplatz beim Chlausbrunnen \n👉 Der Metzplatz befindet sich mitten in der Altstadt von Lenzburg. Von hier aus können wir die weiteren Gassen vom Städtchen auskundschaften und zeichnen\, wo es uns gefällt. \nSollte es regnen\, gibt es im Alten Gemeindehaus ein paar Torbogen\, wo wir uns zum Zeichnen unterstellen können. Ausserdem gibt es in Fussdistanz einige hübsche Restaurants.
URL:https://dev.usk-switzerland.ch/event/sketchcrawl-in-der-altstadt-von-lenzburg/
CATEGORIES:USkS Aargau
ATTACH;FMTTYPE=image/jpeg:https://dev.usk-switzerland.ch/wp-content/uploads/2026/04/Sketchcrawl-Lenzburg-lo.jpg
END:VEVENT
BEGIN:VEVENT
DTSTART;TZID=Europe/Zurich:20260404T110000
DTEND;TZID=Europe/Zurich:20260404T130000
DTSTAMP:20260420T080838
CREATED:20260322T180358Z
LAST-MODIFIED:20260322T180557Z
UID:7928-1775300400-1775307600@dev.usk-switzerland.ch
SUMMARY:Graphische Sammlung ETH-Zürich
DESCRIPTION:Wir verschieben unser nächstes Urban Sketchers Zürich Treffen wetterbedingt um eine Woche auf das Osterwochenende und treffen uns ausnahmsweise am Samstag. Anlass ist die neu eröffnete Ausstellung «Gletscher & Stromschnellen. Gezeichnete Schweiz um 1800» in der Graphischen Sammlung der ETH Zürich\, die spannende Einblicke in historische Landschaftszeichnungen bietet. Gezeichnet werden kann drinnen oder bei gutem Wetter natürlich auch draussen\, beispielsweise auf der Polyterrasse mit Blick auf die Altstadt. \nTreffpunkt: Drinnen vor dem Eingang zur Ausstellung der Graphischen Sammlung der ETH-Zürich (Rämistrasse 101\, Zürich). \nBitte eigenes Material mitbringen. Es sind keine Vorkenntnisse nötig. \nWeitere Informationen und Anmeldung auf Meetup.
URL:https://dev.usk-switzerland.ch/event/graphische-sammlung-eth-zuerich/
CATEGORIES:USkS Zürich
ATTACH;FMTTYPE=image/jpeg:https://dev.usk-switzerland.ch/wp-content/uploads/2026/03/IMG_5760-scaled.jpg
END:VEVENT
BEGIN:VEVENT
DTSTART;TZID=Europe/Zurich:20260214T140000
DTEND;TZID=Europe/Zurich:20260214T163000
DTSTAMP:20260420T080838
CREATED:20260123T144316Z
LAST-MODIFIED:20260123T145038Z
UID:7923-1771077600-1771086600@dev.usk-switzerland.ch
SUMMARY:Sketchcrawl im Strohmuseum Wohlen
DESCRIPTION:Samstag\, 14. Februar 2026\, 14 Uhr \n\n\n📍 Sketchcrawl im Strohmuseum\, Bünzstrasse 5\, 5610 Wohlen. Wir treffen uns\, sobald das Museum öffnet\, um 14 Uhr beim Eingang zum Museum. Wir zeichnen ein Stück Freiämter Geschichte – wo man vor 150 Jahren im Kanton Aargau erkannte\, wie man aus Stroh Gold herstellen kann. \n👉 Der Eintritt zum Museum kostet 12.- CHF / mit der Raiffeisenkarte ist der Eintritt gratis. \nWir freuen uns auf euch!
URL:https://dev.usk-switzerland.ch/event/sketchcrawl-im-strohmuseum-wohlen/
CATEGORIES:USkS Aargau
ATTACH;FMTTYPE=image/png:https://dev.usk-switzerland.ch/wp-content/uploads/2026/01/Sketchcrawl-Praesentation-43-2.png
END:VEVENT
BEGIN:VEVENT
DTSTART;TZID=Europe/Zurich:20260124T140000
DTEND;TZID=Europe/Zurich:20260124T160000
DTSTAMP:20260420T080838
CREATED:20260101T163421Z
LAST-MODIFIED:20260101T204538Z
UID:7892-1769263200-1769270400@dev.usk-switzerland.ch
SUMMARY:Sketchwalk à la Rue de Lausanne (Fribourg)
DESCRIPTION:Hello Toi !\nNotre prochain sketchwalk aura lieu le 24 janvier 26 dans la «  Rue de Lausanne d’après les Fêtes de fin d’année ». \nRendez-vous à 14h devant le bazar de la Place Georges Python. En principe nous terminerons à 16h avec la traditionnelle exposition de nos oeuvres. \n\n\n\n• Pour tout style\, tout niveau et tout âge. \n• Avec zéro inscription\, zéro franc et zéro jugement \n• Manifeste de l’urban sketcher \n\n\nAvec coeur\n\n\n\n\n\n\n\n\n\n\n\n\n\n\n\n\n\n\nJosy\n\n079 237 47 85\n\n\n\n\n\n\n\n\n\n\n\n\n\n\n\n\n\n\n\nAnnexe : La Rue de Lausanne \n\n\n\n\n\n\n\n\n\n\n\n\n\n\n\n\n\n\nCette rue commerçante emblématique de la ville de Fribourg a été aménagée au Moyen Âge comme axe de sortie de la ville vers Lausanne et le Jura. Elle fut bordée dès le XIV siècle de maisons patriciennes et d’immeubles marchands. Elle débute au haut de la pente avec l’Evêché et se termine en s’ouvrant sur la Place «  Nova Friburgo »\, ainsi nommée en l’honneur des centaines de Fribourgeois qui furent forcés par la disette à émigrer au Brésil pour créer la colonie Nova Friburgo dans des conditions extrêmement difficiles. Photos prises en ce premier jour de l’An.
URL:https://dev.usk-switzerland.ch/event/sketchwalk-a-la-rue-de-lausanne-fribourg/
CATEGORIES:USkS Freiburg
ATTACH;FMTTYPE=image/jpeg:https://dev.usk-switzerland.ch/wp-content/uploads/2026/01/20260101_125940_resized.jpg
END:VEVENT
BEGIN:VEVENT
DTSTART;TZID=Europe/Zurich:20260110T103000
DTEND;TZID=Europe/Zurich:20260110T140000
DTSTAMP:20260420T080838
CREATED:20251215T115450Z
LAST-MODIFIED:20251218T145933Z
UID:7465-1768041000-1768053600@dev.usk-switzerland.ch
SUMMARY:Shopping Center Spreitenbach
DESCRIPTION:Sketchcrawl im Shopping Center Spreitenbach\nWir zeichnen das Gewusel im Einkaufszentrum.\nWir treffen uns auf der Shopping Center Seite im oberen Stock direkt beim Eingang zur Passarelle\, um 10.30 Uhr.\nVon hier aus könnt ihr ausschwärmen und zeichnen\, was euch Spass macht: das Gewusel der Menschen\, die Architektur\, die Einkaufsstimmung im Januar… \nDie kommenden Sketchcrawls der Urban Sketches Aargau sind geplant auf:\n14. Februar\, 14. März\, 18. April und 17. Mai 2026
URL:https://dev.usk-switzerland.ch/event/shopping-center-spreitenbach/
CATEGORIES:USkS Aargau
ATTACH;FMTTYPE=image/png:https://dev.usk-switzerland.ch/wp-content/uploads/2025/12/Sketchcrawl-Januar-1024-x-576-px.png
END:VEVENT
BEGIN:VEVENT
DTSTART;TZID=Europe/Zurich:20260110T000000
DTEND;TZID=Europe/Zurich:20260110T000000
DTSTAMP:20260420T080838
CREATED:20251230T190833Z
LAST-MODIFIED:20251230T190957Z
UID:7823-1768003200-1768003200@dev.usk-switzerland.ch
SUMMARY:Samstag\, 10. Januar 2026: Vorankündigung Sketchcrawl Basel bei Training und Probe des Basler Balletts
DESCRIPTION:Im neuen Jahr treffen wir uns zum ersten Mal am Samstag\, 10. Januar zum Skizzieren. \nWir sind dann zu Gast beim Ballett Basel\, beim Training (am späten Vormittag) und den Proben (über Mittag) zu einer neuen Produktion\, die am 5. Februar uraufgeführt wird. «New Works» nennt sich diese Aufführung von zwei aufstrebenden Choreographinnen. Hier der Link zum Info des Theater Basel: https://www.theater-basel.ch/de/newworkshakobyanjung \nGenauere Infos folgen so bald wie möglich.
URL:https://dev.usk-switzerland.ch/event/samstag-10-januar-2026-vorankuendigung-sketchcrawl-basel-bei-training-und-probe-des-basler-balletts/
CATEGORIES:USkS Basel
END:VEVENT
BEGIN:VEVENT
DTSTART;TZID=Europe/Zurich:20251228T100000
DTEND;TZID=Europe/Zurich:20251228T130000
DTSTAMP:20260420T080838
CREATED:20251220T173131Z
LAST-MODIFIED:20251220T175628Z
UID:7628-1766916000-1766926800@dev.usk-switzerland.ch
SUMMARY:PorträtSKETCH Dezember 2025
DESCRIPTION:Das Zeichnen von Menschen ist ein wichtiger Teil beim Urban Sketching und für viele eine Herausforderung. Deshalb üben wir an unseren Treffen sowohl das schnelle und skizzenhafte\, als auch das genaue und detaillierte Zeichnen von Menschen\, indem wir uns gegenseitig abzeichnen. Die Posen dauern nach vorheriger Absprache von 2 bis maximal 15 Minuten und Porträtsitzen ist keine Pflicht. Zwischendurch gibt es immer wieder Pausen zum Auslegen der Zeichnungen und gegenseitigen Austausch. Jede und jeder ist herzlich willkommen\, die Teilnahme ist kostenlos. \nWir treffen uns im geräumigen und hellen Treppenhaus in der alten Stickerei in Wittenbach. Manchmal wird eine Technik vorgegeben\, in den meisten Fällen kann und soll jeder nach Wunsch und Belieben zeichnen. Sitzgelegenheiten und Materialien (Papier\, Kohle\, Farbstift\, Kugelschreiber etc.) stehen zur Verfügung\, spezielles Material bitte selbst mitbringen. Die Teilnahme ist kostenlos.
URL:https://dev.usk-switzerland.ch/event/portraetsketch-dezember-2025/
CATEGORIES:USkS St. Gallen
ATTACH;FMTTYPE=image/jpeg:https://dev.usk-switzerland.ch/wp-content/uploads/2025/12/Beitragbild_PSK_1024x576px.jpg
END:VEVENT
BEGIN:VEVENT
DTSTART;TZID=Europe/Zurich:20251213T140000
DTEND;TZID=Europe/Zurich:20251213T160000
DTSTAMP:20260420T080838
CREATED:20251212T173603Z
LAST-MODIFIED:20251212T173603Z
UID:7229-1765634400-1765641600@dev.usk-switzerland.ch
SUMMARY:Sketchcrawl im Bahnhof Basel SBB
DESCRIPTION:Wir treffen uns von 14.00-16.00 Uhr zum letzten Mal in diesem Jahr zum Skizzieren:\num 14.00 Uhr im Basler Bahnhof SBB\, am «Treffpunkt» in der Schalterhalle (Link) \nEs gibt viele verschiedene Motive. Zum Beispiel hat man auf der Passerelle links neben der Rolltreppe einen geschützten Standort\, von wo aus man Passanten zeichnen kann oder Leute\, die bei den Sitzinseln pausieren\, oder Läden\, wo sich Reisende aufhalten. Die Schalterhalle selber ist auch ein schöner Raum mit den Wandgemälden aus den 1920er Jahren\, auf den man von der Passerelle aus gute Sicht hat. Derzeit ist der Bahnhof in Weihnachtsdekoration gekleidet. Weitere Motive sind der Westflügel\, die Halle zum französischen Bahnhof\, historisch erhaltenen Räume\, die heute dem Verkauf dienen und vieles mehr. \nUm 16.00 Uhr treffen wir uns dann\, um die entstandenen Zeichnungen zu sehen. Wo\, machen wir vor Ort ab.
URL:https://dev.usk-switzerland.ch/event/sketchcrawl-im-bahnhof-basel-sbb/
CATEGORIES:USkS Basel
END:VEVENT
BEGIN:VEVENT
DTSTART;TZID=Europe/Zurich:20251213T113000
DTEND;TZID=Europe/Zurich:20251213T133000
DTSTAMP:20260420T080838
CREATED:20251118T150136Z
LAST-MODIFIED:20251118T150418Z
UID:6891-1765625400-1765632600@dev.usk-switzerland.ch
SUMMARY:Samstag\, 13. Dezember 2025\, komm und zeichne mit uns in der Kletterhalle C+ in Colombier.
DESCRIPTION:Unser nächstes Treffen findet in der Kletterhalle C+ in Colombier statt. Lasst uns versuchen\, den an ihren Seilen hängenden Figuren hinterherzujagen! Es gibt auch Platz im Bistro\, wo sich die Kaffeetrinker sicherlich etwas weniger austoben als die Kletterer! \nTreffpunkt ist um 11 Uhr vor dem Eingang. Der Eintritt ist für Zeichner kostenlos (natürlich nicht zum Klettern). \nEs gibt einen Parkplatz vor der Halle\, aber sie ist auch mit der Küstenstraßenbahn erreichbar\, Haltestelle Colombier Les Chézards. \nEs ist kostenlos\, ohne Druck\, jeder nimmt seine Lieblingsausrüstung mit und zeichnet\, was ihn inspiriert\, und am Ende stellen wir gerne alle Kreationen zusammen\, um sie zu bewundern\, zu teilen und mit einem Gruppenfoto zu verewigen.
URL:https://dev.usk-switzerland.ch/event/samstag-13-dezember-2025-komm-und-zeichne-mit-uns-in-der-kletterhalle-c-in-colombier/
CATEGORIES:USkS Neuenburg
ATTACH;FMTTYPE=image/jpeg:https://dev.usk-switzerland.ch/wp-content/uploads/2025/11/c-salle-pano-2_800.jpg
END:VEVENT
BEGIN:VEVENT
DTSTART;TZID=Europe/Zurich:20251213T100000
DTEND;TZID=Europe/Zurich:20251213T233000
DTSTAMP:20260420T080838
CREATED:20251126T194844Z
LAST-MODIFIED:20251126T195626Z
UID:7084-1765620000-1765668600@dev.usk-switzerland.ch
SUMMARY:Sketchcrawl\, Sabato 13 Dicembre\, Locarno
DESCRIPTION:Questo dicembre ci troviamo nel mio atelier a Locarno. Facciamo un incontro speciale prima di natale\, una riunione più famigliare per chiudere un bel anno di incontri e disegni. \nOra: 10.00-11.30 \nGiorno: Sabato 13 dicembre \nLuogo: Via Luigi Appiani 1\, (da non confondere con Vicolo Appiani) \nPer chi viene in treno\, dalla Stazione di Locarno prendere i bus numero 7 e scendere il Piazza Castello. Camminare verso l’ospedale la Carità. Il mio atelier è di fronte al pronto soccorso del ospedale. Il tempo di percorrenza e di 5 minuti da piazza Castello \nUn alternativa é prendere il bus 3 (corsia B) Direzione Brione sopra Minusio. Scendere alla fermata Chiesa S. Antonio.Dietro la chiesa S. Antonio c’e la via Appiani. A piede arrivate in 1 minuto. \nSe avete dei problemi per trovare l’indirizzo\, chiamatemi al 076 5350164 \nL’incontro è rivolto a tutti coloro che amano disegnare. Non è necessario iscriversi e non costa nulla. Basta portare il proprio materiale da disegno e si parte. \n 
URL:https://dev.usk-switzerland.ch/event/sketchcrawl-sabato-13-dicembre-locarno/
CATEGORIES:USkS Locarno
ATTACH;FMTTYPE=image/jpeg:https://dev.usk-switzerland.ch/wp-content/uploads/2025/11/USK-dicembre-25-horizontal-1.jpg
END:VEVENT
BEGIN:VEVENT
DTSTART;TZID=Europe/Zurich:20251207T110000
DTEND;TZID=Europe/Zurich:20251207T130000
DTSTAMP:20260420T080838
CREATED:20251125T210430Z
LAST-MODIFIED:20251125T210646Z
UID:7051-1765105200-1765112400@dev.usk-switzerland.ch
SUMMARY:Sonntag\, 7. Dezember 2025\, verkaufsoffener Sonntag in Sihlcity (Zürich)
DESCRIPTION:Wo früher die Sihl‑Papierfabrik arbeitete\, entstand mit Sihlcity ein urbanes Einkaufs‑ und Freizeitquartier in Zürich. Teile der Industriearchitektur\, Backstein\, Kesselhaus\, der markante Kamin\, sind erhalten und treffen auf Stahl und Glas. Vor Weihnachten kommt nun noch eine Baumhauskonstruktion im Innenhof hinzu. Bei jedem Wetter finden wir Motive\, drinnen wie draussen. An diesem verkaufsoffenen Sonntag ist das Gelände Sihlcity besonders lebendig. Eine gute Gelegenheit\, Bewegung\, Menschen und urbane Szenen einzufangen. \nTreffpunkt: Draussen auf dem Platz\, beim Eingang des Vapiano. \nBitte bringt euer eigenes Zeichenmaterial und idealerweise einen kleinen Klapphocker mit. Keine Vorkenntnisse nötig. Wir skizzieren rund 2 Stunden\, allein oder in kleinen Gruppen. Danach treffen wir uns wieder\, zeigen unsere Sketches und machen das Gruppenfoto. Als Leitfaden dienen die Werte der Urban Sketchers:\nhttps://urbansketchers.org/de/who-we-are/#mission/ \n#uskzurich
URL:https://dev.usk-switzerland.ch/event/sonntag-7-dezember-2025-verkaufsoffener-sonntag-in-sihlcity-zuerich/
CATEGORIES:USkS Zürich
ATTACH;FMTTYPE=image/jpeg:https://dev.usk-switzerland.ch/wp-content/uploads/2025/11/IMG_4983-scaled.jpeg
END:VEVENT
BEGIN:VEVENT
DTSTART;TZID=Europe/Zurich:20251130T100000
DTEND;TZID=Europe/Zurich:20251130T120000
DTSTAMP:20260420T080838
CREATED:20251111T201037Z
LAST-MODIFIED:20251112T135459Z
UID:6475-1764496800-1764504000@dev.usk-switzerland.ch
SUMMARY:Sonntag\, 30. November 2025\, LUZ Seebistro und Rudolfs Weihnachtsmarkt\, Inseli Luzern
DESCRIPTION:Ende November gibt es «2 für 1». Wir zeichnen am Weihnachtsmarkt auf dem Inseli (hinter dem KKL). Doch weil der Markt erst um 11 Uhr öffnet\, zeichnen wir uns vorher an der Wärme ein. Wir treffen uns um 10 Uhr vor dem LUZ Seebistro am See beim Bahnhof. \nZieht euch warm an! \nWann: Sonntag\, 30. November 2025\nZeit: von 10:00 bis 12:00\nWo: LUZ Seebistro und Rudolfs Weihnachtsmarkt\, Inseli Luzern\nTreffpunkt: beim LUZ Seebistro\, am See \nDas Treffen ist für alle\, die gerne zeichnen. Man muss sich nicht anmelden und es kostet auch nichts. Einfach eigenes Zeichen-Material mitbringen und los geht’s.
URL:https://dev.usk-switzerland.ch/event/sonntag-30-november-2025-luz-seebistro-und-rudolfs-weihnachtsmarkt-inseli-luzern/
CATEGORIES:USkS Luzern
ATTACH;FMTTYPE=image/jpeg:https://dev.usk-switzerland.ch/wp-content/uploads/2025/11/vorlage_Blog-Lu.jpg
END:VEVENT
END:VCALENDAR