BEGIN:VCALENDAR
VERSION:2.0
PRODID:-//Urban Sketchers Switzerland - ECPv6.15.13//NONSGML v1.0//EN
CALSCALE:GREGORIAN
METHOD:PUBLISH
X-WR-CALNAME:Urban Sketchers Switzerland
X-ORIGINAL-URL:https://dev.usk-switzerland.ch
X-WR-CALDESC:Évènements pour Urban Sketchers Switzerland
REFRESH-INTERVAL;VALUE=DURATION:PT1H
X-Robots-Tag:noindex
X-PUBLISHED-TTL:PT1H
BEGIN:VTIMEZONE
TZID:Europe/Zurich
BEGIN:DAYLIGHT
TZOFFSETFROM:+0100
TZOFFSETTO:+0200
TZNAME:CEST
DTSTART:20250330T010000
END:DAYLIGHT
BEGIN:STANDARD
TZOFFSETFROM:+0200
TZOFFSETTO:+0100
TZNAME:CET
DTSTART:20251026T010000
END:STANDARD
BEGIN:DAYLIGHT
TZOFFSETFROM:+0100
TZOFFSETTO:+0200
TZNAME:CEST
DTSTART:20260329T010000
END:DAYLIGHT
BEGIN:STANDARD
TZOFFSETFROM:+0200
TZOFFSETTO:+0100
TZNAME:CET
DTSTART:20261025T010000
END:STANDARD
BEGIN:DAYLIGHT
TZOFFSETFROM:+0100
TZOFFSETTO:+0200
TZNAME:CEST
DTSTART:20270328T010000
END:DAYLIGHT
BEGIN:STANDARD
TZOFFSETFROM:+0200
TZOFFSETTO:+0100
TZNAME:CET
DTSTART:20271031T010000
END:STANDARD
END:VTIMEZONE
BEGIN:VEVENT
DTSTART;TZID=Europe/Zurich:20260404T110000
DTEND;TZID=Europe/Zurich:20260404T130000
DTSTAMP:20260420T090900
CREATED:20260322T180358Z
LAST-MODIFIED:20260322T180358Z
UID:7934-1775300400-1775307600@dev.usk-switzerland.ch
SUMMARY:Collection of Prints and Drawings of the ETH Zurich
DESCRIPTION:We are postponing our next Urban Sketchers Zurich meetup by one week due to the cold and unpleasant weather\, moving it to the Easter weekend. Instead of the usual first Sunday of the month\, we will meet exceptionally on Saturday. The occasion is the newly opened exhibition “Glaciers & Torrents. Drawn Switzerland around 1800” at the Graphische Sammlung of ETH Zurich\, offering fascinating insights into historical landscape drawings. Sketching can take place indoors or\, if the weather is good\, outdoors\, for example on the Polyterrasse overlooking the old town. \nMeeting point: Indoors\, in front of the entrance to the exhibition at the Graphische Sammlung of ETH Zurich (Rämistrasse 101\, Zurich). \nPlease bring your own sketching materials. No prior experience is required. \nFurther information and registration on Meetup.
URL:https://dev.usk-switzerland.ch/fr/event/collection-of-prints-and-drawings-of-the-eth-zurich/
CATEGORIES:USkS Zurich
ATTACH;FMTTYPE=image/jpeg:https://dev.usk-switzerland.ch/wp-content/uploads/2026/03/IMG_5760-scaled.jpg
END:VEVENT
END:VCALENDAR